BEGIN:VCALENDAR
VERSION:2.0
PRODID:-//Section E2 - ECPv6.15.15//NONSGML v1.0//EN
CALSCALE:GREGORIAN
METHOD:PUBLISH
X-WR-CALNAME:Section E2
X-ORIGINAL-URL:https://e2.oa-scouting.org
X-WR-CALDESC:Events for Section E2
REFRESH-INTERVAL;VALUE=DURATION:PT1H
X-Robots-Tag:noindex
X-PUBLISHED-TTL:PT1H
BEGIN:VTIMEZONE
TZID:America/New_York
BEGIN:DAYLIGHT
TZOFFSETFROM:-0500
TZOFFSETTO:-0400
TZNAME:EDT
DTSTART:20250309T070000
END:DAYLIGHT
BEGIN:STANDARD
TZOFFSETFROM:-0400
TZOFFSETTO:-0500
TZNAME:EST
DTSTART:20251102T060000
END:STANDARD
BEGIN:DAYLIGHT
TZOFFSETFROM:-0500
TZOFFSETTO:-0400
TZNAME:EDT
DTSTART:20260308T070000
END:DAYLIGHT
BEGIN:STANDARD
TZOFFSETFROM:-0400
TZOFFSETTO:-0500
TZNAME:EST
DTSTART:20261101T060000
END:STANDARD
BEGIN:DAYLIGHT
TZOFFSETFROM:-0500
TZOFFSETTO:-0400
TZNAME:EDT
DTSTART:20270314T070000
END:DAYLIGHT
BEGIN:STANDARD
TZOFFSETFROM:-0400
TZOFFSETTO:-0500
TZNAME:EST
DTSTART:20271107T060000
END:STANDARD
END:VTIMEZONE
BEGIN:VEVENT
DTSTART;TZID=America/New_York:20260426T190000
DTEND;TZID=America/New_York:20260426T203000
DTSTAMP:20260424T101841
CREATED:20260324T202059Z
LAST-MODIFIED:20260324T202443Z
UID:1166-1777230000-1777235400@e2.oa-scouting.org
SUMMARY:Council of Chiefs
DESCRIPTION:April Council of Chiefs meeting.
URL:https://e2.oa-scouting.org/oa-event/council-of-chiefs/
LOCATION:Zoom
CATEGORIES:Council of Chiefs
END:VEVENT
BEGIN:VEVENT
DTSTART;TZID=America/New_York:20260508T170000
DTEND;TZID=America/New_York:20260510T100000
DTSTAMP:20260424T101841
CREATED:20260324T193825Z
LAST-MODIFIED:20260324T202417Z
UID:1157-1778259600-1778407200@e2.oa-scouting.org
SUMMARY:2026 Section Conclave
DESCRIPTION:Join us at Camp Friedlander for Conclave 2026! This medieval themed weekend will be full of activities and fellowship that appeal to any scout. Meet arrowmen across all six of our lodges in the beauty of Cincinnati\, OH! We can’t wait to see all of you there for the event of the year.
URL:https://e2.oa-scouting.org/oa-event/2026-section-conclave/
LOCATION:Camp Friedlander\, 581 Ibold Rd\, Loveland\, OH\, 45140\, United States
CATEGORIES:Conclave
END:VEVENT
BEGIN:VEVENT
DTSTART;TZID=America/New_York:20260605T170000
DTEND;TZID=America/New_York:20260607T100000
DTSTAMP:20260424T101841
CREATED:20260324T194402Z
LAST-MODIFIED:20260330T164833Z
UID:1161-1780678800-1780826400@e2.oa-scouting.org
SUMMARY:Section Induction Experience
DESCRIPTION:More information coming soon.
URL:https://e2.oa-scouting.org/oa-event/section-induction-experience/
LOCATION:Camp Berry\, 11716 Co Rd 40\, Findlay\, OH\, 45840\, United States
CATEGORIES:Section Special Event
END:VEVENT
END:VCALENDAR